BEGIN:VCALENDAR
VERSION:2.0
PRODID:SchoolNow
CALSCALE:GREGORIAN
BEGIN:VEVENT
UID:1253c278-63fa-11f0-9eee-0e1acee5daff
DTSTAMP:20250718T171014Z
SUMMARY:DRVB Meeting - April 20\, 2026
LOCATION:The Meadow Pointe Clubhouse Building A\, 28245 County Line Road\, 
 Wesley Chapel\, Florida 33543
URL;VALUE=URI:https://www.meadowpointecdd.com/calendar/8427251/drvb-meeting
 -april-20-2026
DTSTART:20260420T230000Z
DTEND:20260421T000000Z
END:VEVENT
END:VCALENDAR
